

BEGIN:VCALENDAR
VERSION:2.0
PRODID:https://www.kufer.de/kuferweb / DE
METHOD:PUBLISH
CALSCALE:GREGORIAN
X-WR-TIMEZONE:Europe/Berlin
BEGIN:VTIMEZONE
TZID:Europe/Berlin
X-LIC-LOCATION:Europe/Berlin
BEGIN:DAYLIGHT
TZOFFSETFROM:+0100
TZOFFSETTO:+0200
TZNAME:CEST
DTSTART:19700329T020000
RRULE:FREQ=YEARLY;INTERVAL=1;BYDAY=-1SU;BYMONTH=3
END:DAYLIGHT
BEGIN:STANDARD
TZOFFSETFROM:+0200
TZOFFSETTO:+0100
TZNAME:CET
DTSTART:19701025T030000
RRULE:FREQ=YEARLY;INTERVAL=1;BYDAY=-1SU;BYMONTH=10
END:STANDARD
END:VTIMEZONE
BEGIN:VEVENT
DTSTAMP:20260421T134459
DTSTART;TZID=Europe/Berlin:20260813T090000
DTEND;TZID=Europe/Berlin:20260813T160000
UID:260-5400-20260813T090000@FBSMAYEN
SUMMARY:Pädagogische Basisqualifizierung  (260-5400) 
LOCATION:FBS Mayen; Seminarraum extern, , 
END:VEVENT
BEGIN:VEVENT
DTSTAMP:20260421T134459
DTSTART;TZID=Europe/Berlin:20260820T090000
DTEND;TZID=Europe/Berlin:20260820T160000
UID:260-5400-20260820T090000@FBSMAYEN
SUMMARY:Pädagogische Basisqualifizierung  (260-5400) 
LOCATION:FBS Mayen; Seminarraum extern, , 
END:VEVENT
BEGIN:VEVENT
DTSTAMP:20260421T134459
DTSTART;TZID=Europe/Berlin:20260827T090000
DTEND;TZID=Europe/Berlin:20260827T160000
UID:260-5400-20260827T090000@FBSMAYEN
SUMMARY:Pädagogische Basisqualifizierung  (260-5400) 
LOCATION:FBS Mayen; Seminarraum extern, , 
END:VEVENT
BEGIN:VEVENT
DTSTAMP:20260421T134459
DTSTART;TZID=Europe/Berlin:20260902T170000
DTEND;TZID=Europe/Berlin:20260902T200000
UID:260-5400-20260902T170000@FBSMAYEN
SUMMARY:Pädagogische Basisqualifizierung  (260-5400) 
LOCATION:Digital/online, , 
END:VEVENT
BEGIN:VEVENT
DTSTAMP:20260421T134459
DTSTART;TZID=Europe/Berlin:20260910T090000
DTEND;TZID=Europe/Berlin:20260910T160000
UID:260-5400-20260910T090000@FBSMAYEN
SUMMARY:Pädagogische Basisqualifizierung  (260-5400) 
LOCATION:FBS Mayen; Seminarraum extern, , 
END:VEVENT
BEGIN:VEVENT
DTSTAMP:20260421T134459
DTSTART;TZID=Europe/Berlin:20260916T170000
DTEND;TZID=Europe/Berlin:20260916T200000
UID:260-5400-20260916T170000@FBSMAYEN
SUMMARY:Pädagogische Basisqualifizierung  (260-5400) 
LOCATION:FBS Mayen; Seminarraum extern, , 
END:VEVENT
BEGIN:VEVENT
DTSTAMP:20260421T134459
DTSTART;TZID=Europe/Berlin:20260924T090000
DTEND;TZID=Europe/Berlin:20260924T160000
UID:260-5400-20260924T090000@FBSMAYEN
SUMMARY:Pädagogische Basisqualifizierung  (260-5400) 
LOCATION:FBS Mayen; Seminarraum extern, , 
END:VEVENT
BEGIN:VEVENT
DTSTAMP:20260421T134459
DTSTART;TZID=Europe/Berlin:20260930T170000
DTEND;TZID=Europe/Berlin:20260930T200000
UID:260-5400-20260930T170000@FBSMAYEN
SUMMARY:Pädagogische Basisqualifizierung  (260-5400) 
LOCATION:Digital/online, , 
END:VEVENT
BEGIN:VEVENT
DTSTAMP:20260421T134459
DTSTART;TZID=Europe/Berlin:20261001T090000
DTEND;TZID=Europe/Berlin:20261001T160000
UID:260-5400-20261001T090000@FBSMAYEN
SUMMARY:Pädagogische Basisqualifizierung  (260-5400) 
LOCATION:FBS Mayen; Seminarraum extern, , 
END:VEVENT
BEGIN:VEVENT
DTSTAMP:20260421T134459
DTSTART;TZID=Europe/Berlin:20261022T090000
DTEND;TZID=Europe/Berlin:20261022T160000
UID:260-5400-20261022T090000@FBSMAYEN
SUMMARY:Pädagogische Basisqualifizierung  (260-5400) 
LOCATION:FBS Mayen; Seminarraum extern, , 
END:VEVENT
BEGIN:VEVENT
DTSTAMP:20260421T134459
DTSTART;TZID=Europe/Berlin:20261028T170000
DTEND;TZID=Europe/Berlin:20261028T200000
UID:260-5400-20261028T170000@FBSMAYEN
SUMMARY:Pädagogische Basisqualifizierung  (260-5400) 
LOCATION:Digital/online, , 
END:VEVENT
BEGIN:VEVENT
DTSTAMP:20260421T134459
DTSTART;TZID=Europe/Berlin:20261105T090000
DTEND;TZID=Europe/Berlin:20261105T160000
UID:260-5400-20261105T090000@FBSMAYEN
SUMMARY:Pädagogische Basisqualifizierung  (260-5400) 
LOCATION:FBS Mayen; Seminarraum extern, , 
END:VEVENT
BEGIN:VEVENT
DTSTAMP:20260421T134459
DTSTART;TZID=Europe/Berlin:20261111T170000
DTEND;TZID=Europe/Berlin:20261111T200000
UID:260-5400-20261111T170000@FBSMAYEN
SUMMARY:Pädagogische Basisqualifizierung  (260-5400) 
LOCATION:Digital/online, , 
END:VEVENT
BEGIN:VEVENT
DTSTAMP:20260421T134459
DTSTART;TZID=Europe/Berlin:20261119T090000
DTEND;TZID=Europe/Berlin:20261119T160000
UID:260-5400-20261119T090000@FBSMAYEN
SUMMARY:Pädagogische Basisqualifizierung  (260-5400) 
LOCATION:FBS Mayen; Seminarraum extern, , 
END:VEVENT
BEGIN:VEVENT
DTSTAMP:20260421T134459
DTSTART;TZID=Europe/Berlin:20261125T170000
DTEND;TZID=Europe/Berlin:20261125T200000
UID:260-5400-20261125T170000@FBSMAYEN
SUMMARY:Pädagogische Basisqualifizierung  (260-5400) 
LOCATION:Digital/online, , 
END:VEVENT
BEGIN:VEVENT
DTSTAMP:20260421T134459
DTSTART;TZID=Europe/Berlin:20261203T090000
DTEND;TZID=Europe/Berlin:20261203T160000
UID:260-5400-20261203T090000@FBSMAYEN
SUMMARY:Pädagogische Basisqualifizierung  (260-5400) 
LOCATION:FBS Mayen; Seminarraum extern, , 
END:VEVENT
BEGIN:VEVENT
DTSTAMP:20260421T134459
DTSTART;TZID=Europe/Berlin:20261209T170000
DTEND;TZID=Europe/Berlin:20261209T200000
UID:260-5400-20261209T170000@FBSMAYEN
SUMMARY:Pädagogische Basisqualifizierung  (260-5400) 
LOCATION:Digital/online, , 
END:VEVENT
BEGIN:VEVENT
DTSTAMP:20260421T134459
DTSTART;TZID=Europe/Berlin:20261217T090000
DTEND;TZID=Europe/Berlin:20261217T160000
UID:260-5400-20261217T090000@FBSMAYEN
SUMMARY:Pädagogische Basisqualifizierung  (260-5400) 
LOCATION:FBS Mayen; Seminarraum extern, , 
END:VEVENT
BEGIN:VEVENT
DTSTAMP:20260421T134459
DTSTART;TZID=Europe/Berlin:20270114T090000
DTEND;TZID=Europe/Berlin:20270114T160000
UID:260-5400-20270114T090000@FBSMAYEN
SUMMARY:Pädagogische Basisqualifizierung  (260-5400) 
LOCATION:FBS Mayen; Seminarraum extern, , 
END:VEVENT
BEGIN:VEVENT
DTSTAMP:20260421T134459
DTSTART;TZID=Europe/Berlin:20270120T170000
DTEND;TZID=Europe/Berlin:20270120T200000
UID:260-5400-20270120T170000@FBSMAYEN
SUMMARY:Pädagogische Basisqualifizierung  (260-5400) 
LOCATION:Digital/online, , 
END:VEVENT
BEGIN:VEVENT
DTSTAMP:20260421T134459
DTSTART;TZID=Europe/Berlin:20270128T090000
DTEND;TZID=Europe/Berlin:20270128T160000
UID:260-5400-20270128T090000@FBSMAYEN
SUMMARY:Pädagogische Basisqualifizierung  (260-5400) 
LOCATION:FBS Mayen; Seminarraum extern, , 
END:VEVENT
BEGIN:VEVENT
DTSTAMP:20260421T134459
DTSTART;TZID=Europe/Berlin:20270203T170000
DTEND;TZID=Europe/Berlin:20270203T200000
UID:260-5400-20270203T170000@FBSMAYEN
SUMMARY:Pädagogische Basisqualifizierung  (260-5400) 
LOCATION:Digital/online, , 
END:VEVENT
BEGIN:VEVENT
DTSTAMP:20260421T134459
DTSTART;TZID=Europe/Berlin:20270211T090000
DTEND;TZID=Europe/Berlin:20270211T160000
UID:260-5400-20270211T090000@FBSMAYEN
SUMMARY:Pädagogische Basisqualifizierung  (260-5400) 
LOCATION:FBS Mayen; Seminarraum extern, , 
END:VEVENT
BEGIN:VEVENT
DTSTAMP:20260421T134459
DTSTART;TZID=Europe/Berlin:20270217T170000
DTEND;TZID=Europe/Berlin:20270217T200000
UID:260-5400-20270217T170000@FBSMAYEN
SUMMARY:Pädagogische Basisqualifizierung  (260-5400) 
LOCATION:Digital/online, , 
END:VEVENT
BEGIN:VEVENT
DTSTAMP:20260421T134459
DTSTART;TZID=Europe/Berlin:20270225T090000
DTEND;TZID=Europe/Berlin:20270225T160000
UID:260-5400-20270225T090000@FBSMAYEN
SUMMARY:Pädagogische Basisqualifizierung  (260-5400) 
LOCATION:FBS Mayen; Seminarraum extern, , 
END:VEVENT
END:VCALENDAR